BEGIN:VCALENDAR
VERSION:2.0
PRODID:-//Senior Market Team - ECPv6.15.20//NONSGML v1.0//EN
CALSCALE:GREGORIAN
METHOD:PUBLISH
X-ORIGINAL-URL:https://seniormarketteam.com
X-WR-CALDESC:Events for Senior Market Team
REFRESH-INTERVAL;VALUE=DURATION:PT1H
X-Robots-Tag:noindex
X-PUBLISHED-TTL:PT1H
BEGIN:VTIMEZONE
TZID:America/Kentucky/Louisville
BEGIN:DAYLIGHT
TZOFFSETFROM:-0500
TZOFFSETTO:-0400
TZNAME:EDT
DTSTART:20250309T070000
END:DAYLIGHT
BEGIN:STANDARD
TZOFFSETFROM:-0400
TZOFFSETTO:-0500
TZNAME:EST
DTSTART:20251102T060000
END:STANDARD
BEGIN:DAYLIGHT
TZOFFSETFROM:-0500
TZOFFSETTO:-0400
TZNAME:EDT
DTSTART:20260308T070000
END:DAYLIGHT
BEGIN:STANDARD
TZOFFSETFROM:-0400
TZOFFSETTO:-0500
TZNAME:EST
DTSTART:20261101T060000
END:STANDARD
BEGIN:DAYLIGHT
TZOFFSETFROM:-0500
TZOFFSETTO:-0400
TZNAME:EDT
DTSTART:20270314T070000
END:DAYLIGHT
BEGIN:STANDARD
TZOFFSETFROM:-0400
TZOFFSETTO:-0500
TZNAME:EST
DTSTART:20271107T060000
END:STANDARD
END:VTIMEZONE
BEGIN:VEVENT
DTSTART;TZID=America/Kentucky/Louisville:20260423T120000
DTEND;TZID=America/Kentucky/Louisville:20260423T130000
DTSTAMP:20260422T160403
CREATED:20260410T182054Z
LAST-MODIFIED:20260410T182054Z
UID:10001309-1776945600-1776949200@seniormarketteam.com
SUMMARY:Berwick Insurance - Spouse in the House Training
DESCRIPTION:Click here to register! 
URL:https://seniormarketteam.com/event/berwick-insurance-spouse-in-the-house-training
LOCATION:Virtual
ATTACH;FMTTYPE=image/png:https://seniormarketteam.com/wp-content/uploads/2026/04/Event-Cover-Slide-2026-04-10T142039.377.png
END:VEVENT
BEGIN:VEVENT
DTSTART;TZID=America/Kentucky/Louisville:20260424T100000
DTEND;TZID=America/Kentucky/Louisville:20260424T120000
DTSTAMP:20260422T160403
CREATED:20260313T174904Z
LAST-MODIFIED:20260408T141305Z
UID:10001289-1777024800-1777032000@seniormarketteam.com
SUMMARY:Meet Your MediGold Broker Managers
DESCRIPTION:Short presentation from the MediGold team\nOpportunity to connect and ask questions\nCoffee and donuts provided
URL:https://seniormarketteam.com/event/meet-your-medigold-broker-managers
LOCATION:Senior Market Team Office\, 1881 Dixie Hwy\, Fort Wright\, KY\, 41011\, United States
ATTACH;FMTTYPE=image/png:https://seniormarketteam.com/wp-content/uploads/2026/03/Event-Cover-Slide-2026-03-13T134858.707.png
END:VEVENT
BEGIN:VEVENT
DTSTART;TZID=America/Kentucky/Louisville:20260424T140000
DTEND;TZID=America/Kentucky/Louisville:20260424T160000
DTSTAMP:20260422T160403
CREATED:20260420T202015Z
LAST-MODIFIED:20260420T202015Z
UID:10001315-1777039200-1777046400@seniormarketteam.com
SUMMARY:Lauren on the Loose - SMT Birthday Edition
DESCRIPTION:
URL:https://seniormarketteam.com/event/lauren-on-the-loose-smt-birthday-edition
LOCATION:MadTree Brewing\, 3301 Madison Rd\, Cincinnati\, Ohio\, 45209
ATTACH;FMTTYPE=image/png:https://seniormarketteam.com/wp-content/uploads/2026/04/Event-Cover-Slide-2026-04-20T162008.833.png
END:VEVENT
BEGIN:VEVENT
DTSTART;TZID=America/Kentucky/Louisville:20260427T090000
DTEND;TZID=America/Kentucky/Louisville:20260427T100000
DTSTAMP:20260422T160403
CREATED:20250623T170419Z
LAST-MODIFIED:20251216T135646Z
UID:10000843-1777280400-1777284000@seniormarketteam.com
SUMMARY:Weekly Watercooler Chat
DESCRIPTION:CLICK HERE TO JOIN!
URL:https://seniormarketteam.com/event/weekly-watercooler-chat/2026-04-27
LOCATION:Virtual
ATTACH;FMTTYPE=image/png:https://seniormarketteam.com/wp-content/uploads/2025/03/smt-favicon260.png
END:VEVENT
BEGIN:VEVENT
DTSTART;TZID=America/Kentucky/Louisville:20260428T080000
DTEND;TZID=America/Kentucky/Louisville:20260428T163000
DTSTAMP:20260422T160403
CREATED:20260417T142600Z
LAST-MODIFIED:20260420T171152Z
UID:10001311-1777363200-1777393800@seniormarketteam.com
SUMMARY:Medicare & More NABIP Cincinnati Summit
DESCRIPTION:
URL:https://seniormarketteam.com/event/medicare-more-nabip-cincinnati-summit
END:VEVENT
BEGIN:VEVENT
DTSTART;TZID=America/Kentucky/Louisville:20260429T130000
DTEND;TZID=America/Kentucky/Louisville:20260429T140000
DTSTAMP:20260422T160403
CREATED:20260331T184130Z
LAST-MODIFIED:20260331T184130Z
UID:10001298-1777467600-1777471200@seniormarketteam.com
SUMMARY:UnitedHealthOne – ACA Alternatives
DESCRIPTION:Register here! \nJoin our exclusive webinar to explore three powerful ACA alternative options: \n\nTriTerm Medical – 3-year coverage\nShort Term Medical –\nUp to 1-year in most states\nHealth ProtectorGuard –\nThe powerhouse of fixed benefit plans
URL:https://seniormarketteam.com/event/unitedhealthone-aca-alternatives
LOCATION:Virtual
ATTACH;FMTTYPE=image/png:https://seniormarketteam.com/wp-content/uploads/2026/03/Event-Cover-Slide-2026-03-31T144025.360.png
END:VEVENT
BEGIN:VEVENT
DTSTART;TZID=America/Kentucky/Louisville:20260430T100000
DTEND;TZID=America/Kentucky/Louisville:20260430T120000
DTSTAMP:20260422T160403
CREATED:20251216T153833Z
LAST-MODIFIED:20260422T165628Z
UID:10001231-1777543200-1777550400@seniormarketteam.com
SUMMARY:Clicks to Clients: Social Media Series - Google (Virtual)
DESCRIPTION:If registration is full\, please email at bcarter@seniormarketteam.com and include which class you’re hoping to attend to be added to the waitlist.
URL:https://seniormarketteam.com/event/clicks-to-clients-social-media-series-google-virtual
ATTACH;FMTTYPE=image/png:https://seniormarketteam.com/wp-content/uploads/2025/12/Event-Cover-Slide-79.png
END:VEVENT
END:VCALENDAR