BEGIN:VCALENDAR
VERSION:2.0
PRODID:-//Senior Market Team - ECPv6.15.20//NONSGML v1.0//EN
CALSCALE:GREGORIAN
METHOD:PUBLISH
X-ORIGINAL-URL:https://seniormarketteam.com
X-WR-CALDESC:Events for Senior Market Team
REFRESH-INTERVAL;VALUE=DURATION:PT1H
X-Robots-Tag:noindex
X-PUBLISHED-TTL:PT1H
BEGIN:VTIMEZONE
TZID:America/Kentucky/Louisville
BEGIN:DAYLIGHT
TZOFFSETFROM:-0500
TZOFFSETTO:-0400
TZNAME:EDT
DTSTART:20250309T070000
END:DAYLIGHT
BEGIN:STANDARD
TZOFFSETFROM:-0400
TZOFFSETTO:-0500
TZNAME:EST
DTSTART:20251102T060000
END:STANDARD
BEGIN:DAYLIGHT
TZOFFSETFROM:-0500
TZOFFSETTO:-0400
TZNAME:EDT
DTSTART:20260308T070000
END:DAYLIGHT
BEGIN:STANDARD
TZOFFSETFROM:-0400
TZOFFSETTO:-0500
TZNAME:EST
DTSTART:20261101T060000
END:STANDARD
BEGIN:DAYLIGHT
TZOFFSETFROM:-0500
TZOFFSETTO:-0400
TZNAME:EDT
DTSTART:20270314T070000
END:DAYLIGHT
BEGIN:STANDARD
TZOFFSETFROM:-0400
TZOFFSETTO:-0500
TZNAME:EST
DTSTART:20271107T060000
END:STANDARD
END:VTIMEZONE
BEGIN:VEVENT
DTSTART;TZID=America/Kentucky/Louisville:20260424T140000
DTEND;TZID=America/Kentucky/Louisville:20260424T160000
DTSTAMP:20260421T041457
CREATED:20260420T202015Z
LAST-MODIFIED:20260420T202015Z
UID:10001315-1777039200-1777046400@seniormarketteam.com
SUMMARY:Lauren on the Loose - SMT Birthday Edition
DESCRIPTION:
URL:https://seniormarketteam.com/event/lauren-on-the-loose-smt-birthday-edition
LOCATION:MadTree Brewing\, 3301 Madison Rd\, Cincinnati\, Ohio\, 45209
ATTACH;FMTTYPE=image/png:https://seniormarketteam.com/wp-content/uploads/2026/04/Event-Cover-Slide-2026-04-20T162008.833.png
END:VEVENT
END:VCALENDAR